BEGIN:VCALENDAR
VERSION:2.0
PRODID:-//Town of Rancho Viejo - ECPv6.15.13.1//NONSGML v1.0//EN
CALSCALE:GREGORIAN
METHOD:PUBLISH
X-ORIGINAL-URL:https://www.ranchoviejotexas.com
X-WR-CALDESC:Events for Town of Rancho Viejo
REFRESH-INTERVAL;VALUE=DURATION:PT1H
X-Robots-Tag:noindex
X-PUBLISHED-TTL:PT1H
BEGIN:VTIMEZONE
TZID:America/Chicago
BEGIN:DAYLIGHT
TZOFFSETFROM:-0600
TZOFFSETTO:-0500
TZNAME:CDT
DTSTART:20230312T080000
END:DAYLIGHT
BEGIN:STANDARD
TZOFFSETFROM:-0500
TZOFFSETTO:-0600
TZNAME:CST
DTSTART:20231105T070000
END:STANDARD
BEGIN:DAYLIGHT
TZOFFSETFROM:-0600
TZOFFSETTO:-0500
TZNAME:CDT
DTSTART:20240310T080000
END:DAYLIGHT
BEGIN:STANDARD
TZOFFSETFROM:-0500
TZOFFSETTO:-0600
TZNAME:CST
DTSTART:20241103T070000
END:STANDARD
BEGIN:DAYLIGHT
TZOFFSETFROM:-0600
TZOFFSETTO:-0500
TZNAME:CDT
DTSTART:20250309T080000
END:DAYLIGHT
BEGIN:STANDARD
TZOFFSETFROM:-0500
TZOFFSETTO:-0600
TZNAME:CST
DTSTART:20251102T070000
END:STANDARD
END:VTIMEZONE
BEGIN:VEVENT
DTSTART;TZID=America/Chicago:20241211T173000
DTEND;TZID=America/Chicago:20241211T173000
DTSTAMP:20260419T090847
CREATED:20241206T153037Z
LAST-MODIFIED:20241206T153057Z
UID:4813-1733938200-1733938200@www.ranchoviejotexas.com
SUMMARY:Street Committee Meeting
DESCRIPTION:To be held on December 11\, 2024\, at 5:30 pm in the Town Municipal Office\, 3301 Carmen Avenue\, Rancho Viejo\, Texas.
URL:https://www.ranchoviejotexas.com/event/street-committee-meeting-35/
LOCATION:TX
END:VEVENT
BEGIN:VEVENT
DTSTART;TZID=America/Chicago:20241219T170000
DTEND;TZID=America/Chicago:20241219T170000
DTSTAMP:20260419T090847
CREATED:20241216T224331Z
LAST-MODIFIED:20241216T224331Z
UID:4821-1734627600-1734627600@www.ranchoviejotexas.com
SUMMARY:Strategic Planning Committee Meeting
DESCRIPTION:To be held on December 19\, 2024\, at 5:00 pm in the Town Municipal Office\, 3301 Carmen Avenue\, Rancho Viejo\, Texas.
URL:https://www.ranchoviejotexas.com/event/strategic-planning-committee-meeting-34/
LOCATION:TX
END:VEVENT
END:VCALENDAR